BEGIN:VCALENDAR
VERSION:2.0
PRODID:-//192.99.84.55//NONSGML kigkonsult.se iCalcreator 2.20//
CALSCALE:GREGORIAN
METHOD:PUBLISH
X-WR-TIMEZONE:UTC
BEGIN:VEVENT
UID:event1678@Congreso 2017
DTSTAMP:20260420T180758Z
CATEGORIES:ANTROPOLOGÍA EN IMÁGENES\, MUESTRA AUDIOVISUAL
DESCRIPTION:Nam Amapolecpi (Las Chauchitas)\nCategoría: ANTROPOLOGÍA EN IMÁ
 GENES\, MUESTRA AUDIOVISUAL\nEnlace: https://www.asociacionlatinoamericana
 deantropologia.net/congreso2017/index.php?option=com_jem&view=event&id=167
 8:nam-amapolecpi-las-chauchitas\n
DTSTART:20170607T110000Z
DTEND:20170607T120000Z
LOCATION:Auditorio Marino Troncoso\, Edificio Fernando Baron\,Universidad J
 averiana
SUMMARY:Nam Amapolecpi (Las Chauchitas)
URL:https://www.asociacionlatinoamericanadeantropologia.net/congreso2017/in
 dex.php?option=com_jem&view=event&id=1678:nam-amapolecpi-las-chauchitas
END:VEVENT
END:VCALENDAR
