BEGIN:VCALENDAR
VERSION:2.0
PRODID:-//192.99.84.55//NONSGML kigkonsult.se iCalcreator 2.20//
CALSCALE:GREGORIAN
METHOD:PUBLISH
X-WR-TIMEZONE:UTC
BEGIN:VEVENT
UID:event1674@Congreso 2017
DTSTAMP:20260420T180803Z
CATEGORIES:ANTROPOLOGÍA EN IMÁGENES\, MUESTRA AUDIOVISUAL
DESCRIPTION:Transmutaciones del ser-en-el-mundo\nCategoría: ANTROPOLOGÍA EN
  IMÁGENES\, MUESTRA AUDIOVISUAL\nEnlace: https://www.asociacionlatinoameri
 canadeantropologia.net/congreso2017/index.php?option=com_jem&view=event&id
 =1674:transmutaciones-del-ser-en-el-mundo\n
DTSTART:20170608T171000Z
DTEND:20170608T174000Z
LOCATION:Auditorio Marino Troncoso\, Edificio Fernando Baron\,Universidad J
 averiana
SUMMARY:Transmutaciones del ser-en-el-mundo
URL:https://www.asociacionlatinoamericanadeantropologia.net/congreso2017/in
 dex.php?option=com_jem&view=event&id=1674:transmutaciones-del-ser-en-el-mu
 ndo
END:VEVENT
END:VCALENDAR
