BEGIN:VCALENDAR
VERSION:2.0
PRODID:-//192.99.84.55//NONSGML kigkonsult.se iCalcreator 2.20//
CALSCALE:GREGORIAN
METHOD:PUBLISH
X-WR-TIMEZONE:UTC
BEGIN:VEVENT
UID:event1673@Congreso 2017
DTSTAMP:20260420T180641Z
CATEGORIES:ANTROPOLOGÍA EN IMÁGENES\, MUESTRA AUDIOVISUAL
DESCRIPTION:Puntos Suspensivos\nCategoría: ANTROPOLOGÍA EN IMÁGENES\, MUEST
 RA AUDIOVISUAL\nEnlace: https://www.asociacionlatinoamericanadeantropologi
 a.net/congreso2017/index.php?option=com_jem&view=event&id=1673:puntos-susp
 ensivos\n
DTSTART:20170607T160000Z
DTEND:20170607T163000Z
LOCATION:Auditorio Marino Troncoso\, Edificio Fernando Baron\,Universidad J
 averiana
SUMMARY:Puntos Suspensivos
URL:https://www.asociacionlatinoamericanadeantropologia.net/congreso2017/in
 dex.php?option=com_jem&view=event&id=1673:puntos-suspensivos
END:VEVENT
END:VCALENDAR
