BEGIN:VCALENDAR
VERSION:2.0
PRODID:-//192.99.84.55//NONSGML kigkonsult.se iCalcreator 2.20//
CALSCALE:GREGORIAN
METHOD:PUBLISH
X-WR-TIMEZONE:UTC
BEGIN:VEVENT
UID:event1666@Congreso 2017
DTSTAMP:20260420T175231Z
CATEGORIES:ANTROPOLOGÍA EN IMÁGENES\, MUESTRA AUDIOVISUAL
DESCRIPTION:Kayka Aramtem- saber e tradição de um sábio arukwayene\nCategor
 ía: ANTROPOLOGÍA EN IMÁGENES\, MUESTRA AUDIOVISUAL\nEnlace: https://www.as
 ociacionlatinoamericanadeantropologia.net/congreso2017/index.php?option=co
 m_jem&view=event&id=1666:kayka-aramtem-saber-e-tradic-a-o-de-um-sa-bio-aru
 kwayene\n
DTSTART:20170607T160000Z
DTEND:20170607T163000Z
LOCATION:Auditorio Marino Troncoso\, Edificio Fernando Baron\,Universidad J
 averiana
SUMMARY:Kayka Aramtem- saber e tradição de um sábio arukwayene
URL:https://www.asociacionlatinoamericanadeantropologia.net/congreso2017/in
 dex.php?option=com_jem&view=event&id=1666:kayka-aramtem-saber-e-tradic-a-o
 -de-um-sa-bio-arukwayene
END:VEVENT
END:VCALENDAR
