BEGIN:VCALENDAR
VERSION:2.0
PRODID:-//192.99.84.55//NONSGML kigkonsult.se iCalcreator 2.20//
CALSCALE:GREGORIAN
METHOD:PUBLISH
X-WR-TIMEZONE:UTC
BEGIN:VEVENT
UID:event1663@Congreso 2017
DTSTAMP:20260420T180245Z
CATEGORIES:ANTROPOLOGÍA EN IMÁGENES\, MUESTRA AUDIOVISUAL
DESCRIPTION:Kukama Runa\nCategoría: ANTROPOLOGÍA EN IMÁGENES\, MUESTRA AUDI
 OVISUAL\nEnlace: https://www.asociacionlatinoamericanadeantropologia.net/c
 ongreso2017/index.php?option=com_jem&view=event&id=1663:kukama-runa\n
DTSTART:20170607T100000Z
DTEND:20170607T110000Z
LOCATION:Auditorio Marino Troncoso\, Edificio Fernando Baron\,Universidad J
 averiana
SUMMARY:Kukama Runa
URL:https://www.asociacionlatinoamericanadeantropologia.net/congreso2017/in
 dex.php?option=com_jem&view=event&id=1663:kukama-runa
END:VEVENT
END:VCALENDAR
