BEGIN:VCALENDAR
VERSION:2.0
PRODID:-//192.99.84.55//NONSGML kigkonsult.se iCalcreator 2.20//
CALSCALE:GREGORIAN
METHOD:PUBLISH
X-WR-TIMEZONE:UTC
BEGIN:VEVENT
UID:event1660@Congreso 2017
DTSTAMP:20260421T052614Z
CATEGORIES:MUESTRA AUDIOVISUAL\, POSTER
DESCRIPTION:Obsolescencia\nCategoría: MUESTRA AUDIOVISUAL\, POSTER\nEnlace:
  https://www.asociacionlatinoamericanadeantropologia.net/congreso2017/inde
 x.php?option=com_jem&view=event&id=1660:obsolescencia\n
DTSTART:20170608T160000Z
DTEND:20170608T171500Z
LOCATION:Auditorio Félix Restrepo\,Universidad Javeriana\,Bogotá
SUMMARY:Obsolescencia
URL:https://www.asociacionlatinoamericanadeantropologia.net/congreso2017/in
 dex.php?option=com_jem&view=event&id=1660:obsolescencia
END:VEVENT
END:VCALENDAR
