BEGIN:VCALENDAR
VERSION:2.0
PRODID:-//192.99.84.55//NONSGML kigkonsult.se iCalcreator 2.20//
CALSCALE:GREGORIAN
METHOD:PUBLISH
X-WR-TIMEZONE:UTC
BEGIN:VEVENT
UID:event166@Congreso 2017
DTSTAMP:20260421T012808Z
CATEGORIES:1. Geopolíticas del conocimiento y antropologías del sur\, Simpo
 sio: Miradas a las prácticas antropológicas desde el SurOccidente colombia
 no
DESCRIPTION:Rostros y Voces campesinas del Cauca\nCategoría: 1. Geopolítica
 s del conocimiento y antropologías del sur\, Simposio: Miradas a las práct
 icas antropológicas desde el SurOccidente colombiano\nEnlace: https://www.
 asociacionlatinoamericanadeantropologia.net/congreso2017/index.php?option=
 com_jem&view=event&id=166:rostros-y-voces-campesinas-del-cauca\n
DTSTART:20170609T090000Z
DTEND:20170609T110000Z
LOCATION:Edificio: 67 Salón: 411\,Universidad Javeriana\,Salón: 411 Bogotá
SUMMARY:Rostros y Voces campesinas del Cauca
URL:https://www.asociacionlatinoamericanadeantropologia.net/congreso2017/in
 dex.php?option=com_jem&view=event&id=166:rostros-y-voces-campesinas-del-ca
 uca
END:VEVENT
END:VCALENDAR
