BEGIN:VCALENDAR
VERSION:2.0
PRODID:-//192.99.84.55//NONSGML kigkonsult.se iCalcreator 2.20//
CALSCALE:GREGORIAN
METHOD:PUBLISH
X-WR-TIMEZONE:UTC
BEGIN:VEVENT
UID:event1633@Congreso 2017
DTSTAMP:20260421T071444Z
CATEGORIES:17. Etnoeducación e Interculturalidad\, Simposio: Violência epis
 têmica e descolonização de Saberes: experiências recriadas e ressignificad
 as
DESCRIPTION:Ensaios sobre identidades\, oralidades\, memórias e tradições: 
 experiências de educação e pesquisa entre os guarani e kaiowá e povos indí
 genas do Amapá e norte do Pará \nCategoría: 17. Etnoeducación e Intercultu
 ralidad\, Simposio: Violência epistêmica e descolonização de Saberes: expe
 riências recriadas e ressignificadas\nEnlace: https://www.asociacionlatino
 americanadeantropologia.net/congreso2017/index.php?option=com_jem&view=eve
 nt&id=1633:ensaios-sobre-identidades-oralidades-memorias-e-tradicoes-exper
 iencias-de-educacao-e-pesquisa-entre-os-guarani-e-kaiowa-e-povos-indigenas
 -do-amapa-e-norte-do-para\n
DTSTART:20170609T110000Z
DTEND:20170609T130000Z
LOCATION:Edificio: 02 Salón: 206\,Universidad Javeriana\,Bogotá
SUMMARY:Ensaios sobre identidades\, oralidades\, memórias e tradições: expe
 riências de educação e pesquisa entre os guarani e kaiowá e povos indígena
 s do Amapá e norte do Pará 
URL:https://www.asociacionlatinoamericanadeantropologia.net/congreso2017/in
 dex.php?option=com_jem&view=event&id=1633:ensaios-sobre-identidades-oralid
 ades-memorias-e-tradicoes-experiencias-de-educacao-e-pesquisa-entre-os-gua
 rani-e-kaiowa-e-povos-indigenas-do-amapa-e-norte-do-para
END:VEVENT
END:VCALENDAR
