BEGIN:VCALENDAR
VERSION:2.0
PRODID:-//192.99.84.55//NONSGML kigkonsult.se iCalcreator 2.20//
CALSCALE:GREGORIAN
METHOD:PUBLISH
X-WR-TIMEZONE:UTC
BEGIN:VEVENT
UID:event1631@Congreso 2017
DTSTAMP:20260421T071637Z
CATEGORIES:17. Etnoeducación e Interculturalidad\, Simposio: Violência epis
 têmica e descolonização de Saberes: experiências recriadas e ressignificad
 as
DESCRIPTION:La Educación Intercultural Bilingüe y la Etnoeducación como exp
 eriencias en la descolonización de los saberes \nCategoría: 17. Etnoeducac
 ión e Interculturalidad\, Simposio: Violência epistêmica e descolonização 
 de Saberes: experiências recriadas e ressignificadas\nEnlace: https://www.
 asociacionlatinoamericanadeantropologia.net/congreso2017/index.php?option=
 com_jem&view=event&id=1631:la-educacion-intercultural-bilinguee-y-la-etnoe
 ducacion-como-experiencias-en-la-descolonizacion-de-los-saberes\n
DTSTART:20170609T110000Z
DTEND:20170609T130000Z
LOCATION:Edificio: 02 Salón: 206\,Universidad Javeriana\,Bogotá
SUMMARY:La Educación Intercultural Bilingüe y la Etnoeducación como experie
 ncias en la descolonización de los saberes 
URL:https://www.asociacionlatinoamericanadeantropologia.net/congreso2017/in
 dex.php?option=com_jem&view=event&id=1631:la-educacion-intercultural-bilin
 guee-y-la-etnoeducacion-como-experiencias-en-la-descolonizacion-de-los-sab
 eres
END:VEVENT
END:VCALENDAR
