BEGIN:VCALENDAR
VERSION:2.0
PRODID:-//192.99.84.55//NONSGML kigkonsult.se iCalcreator 2.20//
CALSCALE:GREGORIAN
METHOD:PUBLISH
X-WR-TIMEZONE:UTC
BEGIN:VEVENT
UID:event1620@Congreso 2017
DTSTAMP:20260421T072225Z
CATEGORIES:17. Etnoeducación e Interculturalidad\,  Simposio: Sordedad y Et
 nicidad Sorda: Continuidades y discontinuidades en la etnoeducación e inte
 rc
DESCRIPTION:El sordo como otro: Reflexiones sobre cultura sorda \nCategoría
 : 17. Etnoeducación e Interculturalidad\,  Simposio: Sordedad y Etnicidad 
 Sorda: Continuidades y discontinuidades en la etnoeducación e interc\nEnla
 ce: https://www.asociacionlatinoamericanadeantropologia.net/congreso2017/i
 ndex.php?option=com_jem&view=event&id=1620:el-sordo-como-otro-reflexiones-
 sobre-cultura-sorda\n
DTSTART:20170607T140000Z
DTEND:20170607T160000Z
LOCATION:Edificio: 02 Salón: 407\,Universidad Javeriana\,Bogotá
SUMMARY:El sordo como otro: Reflexiones sobre cultura sorda 
URL:https://www.asociacionlatinoamericanadeantropologia.net/congreso2017/in
 dex.php?option=com_jem&view=event&id=1620:el-sordo-como-otro-reflexiones-s
 obre-cultura-sorda
END:VEVENT
END:VCALENDAR
