BEGIN:VCALENDAR
VERSION:2.0
PRODID:-//192.99.84.55//NONSGML kigkonsult.se iCalcreator 2.20//
CALSCALE:GREGORIAN
METHOD:PUBLISH
X-WR-TIMEZONE:UTC
BEGIN:VEVENT
UID:event1618@Congreso 2017
DTSTAMP:20260421T055638Z
CATEGORIES:17. Etnoeducación e Interculturalidad\,  Simposio: Sordedad y Et
 nicidad Sorda: Continuidades y discontinuidades en la etnoeducación e inte
 rc
DESCRIPTION:Proyecto Etnoeducativo del Pueblo Sordo: Una propuesta \nCatego
 ría: 17. Etnoeducación e Interculturalidad\,  Simposio: Sordedad y Etnicid
 ad Sorda: Continuidades y discontinuidades en la etnoeducación e interc\nE
 nlace: https://www.asociacionlatinoamericanadeantropologia.net/congreso201
 7/index.php?option=com_jem&view=event&id=1618:proyecto-etnoeducativo-del-p
 ueblo-sordo-una-propuesta\n
DTSTART:20170607T140000Z
DTEND:20170607T160000Z
LOCATION:Edificio: 02 Salón: 407\,Universidad Javeriana\,Bogotá
SUMMARY:Proyecto Etnoeducativo del Pueblo Sordo: Una propuesta 
URL:https://www.asociacionlatinoamericanadeantropologia.net/congreso2017/in
 dex.php?option=com_jem&view=event&id=1618:proyecto-etnoeducativo-del-puebl
 o-sordo-una-propuesta
END:VEVENT
END:VCALENDAR
