BEGIN:VCALENDAR
VERSION:2.0
PRODID:-//192.99.84.55//NONSGML kigkonsult.se iCalcreator 2.20//
CALSCALE:GREGORIAN
METHOD:PUBLISH
X-WR-TIMEZONE:UTC
BEGIN:VEVENT
UID:event1616@Congreso 2017
DTSTAMP:20260421T073621Z
CATEGORIES:17. Etnoeducación e Interculturalidad\,  Simposio: Sordedad y Et
 nicidad Sorda: Continuidades y discontinuidades en la etnoeducación e inte
 rc
DESCRIPTION:Entre Sordez y Discapacidad: apuntes etnográficos sobre la auto
 percepción.\nCategoría: 17. Etnoeducación e Interculturalidad\,  Simposio:
  Sordedad y Etnicidad Sorda: Continuidades y discontinuidades en la etnoed
 ucación e interc\nEnlace: https://www.asociacionlatinoamericanadeantropolo
 gia.net/congreso2017/index.php?option=com_jem&view=event&id=1616:entre-sor
 dez-y-discapacidad-apuntes-etnograficos-sobre-la-autopercepcion\n
DTSTART:20170607T110000Z
DTEND:20170607T130000Z
LOCATION:Edificio: 02 Salón: 407\,Universidad Javeriana\,Bogotá
SUMMARY:Entre Sordez y Discapacidad: apuntes etnográficos sobre la autoperc
 epción.
URL:https://www.asociacionlatinoamericanadeantropologia.net/congreso2017/in
 dex.php?option=com_jem&view=event&id=1616:entre-sordez-y-discapacidad-apun
 tes-etnograficos-sobre-la-autopercepcion
END:VEVENT
END:VCALENDAR
