BEGIN:VCALENDAR
VERSION:2.0
PRODID:-//192.99.84.55//NONSGML kigkonsult.se iCalcreator 2.20//
CALSCALE:GREGORIAN
METHOD:PUBLISH
X-WR-TIMEZONE:UTC
BEGIN:VEVENT
UID:event1612@Congreso 2017
DTSTAMP:20260421T073630Z
CATEGORIES:17. Etnoeducación e Interculturalidad\,  Simposio: Sordedad y Et
 nicidad Sorda: Continuidades y discontinuidades en la etnoeducación e inte
 rc
DESCRIPTION:Lengua de señas colombiana y educación de sordos: una mirada de
 sde la isla de Providencia \nCategoría: 17. Etnoeducación e Interculturali
 dad\,  Simposio: Sordedad y Etnicidad Sorda: Continuidades y discontinuida
 des en la etnoeducación e interc\nEnlace: https://www.asociacionlatinoamer
 icanadeantropologia.net/congreso2017/index.php?option=com_jem&view=event&i
 d=1612:lengua-de-senas-colombiana-y-educacion-de-sordos-una-mirada-desde-l
 a-isla-de-providencia\n
DTSTART:20170607T090000Z
DTEND:20170607T110000Z
LOCATION:Edificio: 02 Salón: 407\,Universidad Javeriana\,Bogotá
SUMMARY:Lengua de señas colombiana y educación de sordos: una mirada desde 
 la isla de Providencia 
URL:https://www.asociacionlatinoamericanadeantropologia.net/congreso2017/in
 dex.php?option=com_jem&view=event&id=1612:lengua-de-senas-colombiana-y-edu
 cacion-de-sordos-una-mirada-desde-la-isla-de-providencia
END:VEVENT
END:VCALENDAR
