BEGIN:VCALENDAR
VERSION:2.0
PRODID:-//192.99.84.55//NONSGML kigkonsult.se iCalcreator 2.20//
CALSCALE:GREGORIAN
METHOD:PUBLISH
X-WR-TIMEZONE:UTC
BEGIN:VEVENT
UID:event1611@Congreso 2017
DTSTAMP:20260421T073556Z
CATEGORIES:17. Etnoeducación e Interculturalidad\,  Simposio: Sordedad y Et
 nicidad Sorda: Continuidades y discontinuidades en la etnoeducación e inte
 rc
DESCRIPTION:La comunidad sorda colombiana: procesos de empoderamiento y lid
 erazgo como elementos de inclusión social. De una discapacidad a una comun
 idad sociolingüística minoritaria. \nCategoría: 17. Etnoeducación e Interc
 ulturalidad\,  Simposio: Sordedad y Etnicidad Sorda: Continuidades y disco
 ntinuidades en la etnoeducación e interc\nEnlace: https://www.asociacionla
 tinoamericanadeantropologia.net/congreso2017/index.php?option=com_jem&view
 =event&id=1611:la-comunidad-sorda-colombiana-procesos-de-empoderamiento-y-
 liderazgo-como-elementos-de-inclusion-social-de-una-discapacidad-a-una-com
 unidad-sociolingueistica-minoritaria\n
DTSTART:20170607T090000Z
DTEND:20170607T110000Z
LOCATION:Edificio: 02 Salón: 407\,Universidad Javeriana\,Bogotá
SUMMARY:La comunidad sorda colombiana: procesos de empoderamiento y lideraz
 go como elementos de inclusión social. De una discapacidad a una comunidad
  sociolingüística minoritaria. 
URL:https://www.asociacionlatinoamericanadeantropologia.net/congreso2017/in
 dex.php?option=com_jem&view=event&id=1611:la-comunidad-sorda-colombiana-pr
 ocesos-de-empoderamiento-y-liderazgo-como-elementos-de-inclusion-social-de
 -una-discapacidad-a-una-comunidad-sociolingueistica-minoritaria
END:VEVENT
END:VCALENDAR
