BEGIN:VCALENDAR
VERSION:2.0
PRODID:-//192.99.84.55//NONSGML kigkonsult.se iCalcreator 2.20//
CALSCALE:GREGORIAN
METHOD:PUBLISH
X-WR-TIMEZONE:UTC
BEGIN:VEVENT
UID:event1572@Congreso 2017
DTSTAMP:20260421T071632Z
CATEGORIES:17. Etnoeducación e Interculturalidad\, Simposio: Educación\, nu
 evas estatalidades y luchas comunitarias\, indígenas y afrodescendientes
DESCRIPTION:La Reforma Educativa en México (2013): contradicciones\, negoci
 aciones y repercusiones\nCategoría: 17. Etnoeducación e Interculturalidad\
 , Simposio: Educación\, nuevas estatalidades y luchas comunitarias\, indíg
 enas y afrodescendientes\nEnlace: https://www.asociacionlatinoamericanadea
 ntropologia.net/congreso2017/index.php?option=com_jem&view=event&id=1572:l
 a-reforma-educativa-en-mexico-2013-contradicciones-negociaciones-y-repercu
 siones\n
DTSTART:20170609T110000Z
DTEND:20170609T130000Z
LOCATION:Edificio: 02 Salón: 305\,Universidad Javeriana\,Bogotá
SUMMARY:La Reforma Educativa en México (2013): contradicciones\, negociacio
 nes y repercusiones
URL:https://www.asociacionlatinoamericanadeantropologia.net/congreso2017/in
 dex.php?option=com_jem&view=event&id=1572:la-reforma-educativa-en-mexico-2
 013-contradicciones-negociaciones-y-repercusiones
END:VEVENT
END:VCALENDAR
