BEGIN:VCALENDAR
VERSION:2.0
PRODID:-//192.99.84.55//NONSGML kigkonsult.se iCalcreator 2.20//
CALSCALE:GREGORIAN
METHOD:PUBLISH
X-WR-TIMEZONE:UTC
BEGIN:VEVENT
UID:event1570@Congreso 2017
DTSTAMP:20260421T071735Z
CATEGORIES:17. Etnoeducación e Interculturalidad\, Simposio: Educación\, nu
 evas estatalidades y luchas comunitarias\, indígenas y afrodescendientes
DESCRIPTION:Considerações sobre a atuação do movimenta indígena brasileiro\
 , a formulação de legislação sobre a educação escolar indígena e a criação
  de novas práticas pedagógicas: alguns casos para se re-pensar a escola e 
 a política. \nCategoría: 17. Etnoeducación e Interculturalidad\, Simposio:
  Educación\, nuevas estatalidades y luchas comunitarias\, indígenas y afro
 descendientes\nEnlace: https://www.asociacionlatinoamericanadeantropologia
 .net/congreso2017/index.php?option=com_jem&view=event&id=1570:consideracoe
 s-sobre-a-atuacao-do-movimenta-indigena-brasileiro-a-formulacao-de-legisla
 cao-sobre-a-educacao-escolar-indigena-e-a-criacao-de-novas-praticas-pedago
 gicas-alguns-casos-para-se-re-pensar-a-escola-e-a-politica\n
DTSTART:20170609T090000Z
DTEND:20170609T110000Z
LOCATION:Edificio: 02 Salón: 305\,Universidad Javeriana\,Bogotá
SUMMARY:Considerações sobre a atuação do movimenta indígena brasileiro\, a 
 formulação de legislação sobre a educação escolar indígena e a criação de 
 novas práticas pedagógicas: alguns casos para se re-pensar a escola e a po
 lítica. 
URL:https://www.asociacionlatinoamericanadeantropologia.net/congreso2017/in
 dex.php?option=com_jem&view=event&id=1570:consideracoes-sobre-a-atuacao-do
 -movimenta-indigena-brasileiro-a-formulacao-de-legislacao-sobre-a-educacao
 -escolar-indigena-e-a-criacao-de-novas-praticas-pedagogicas-alguns-casos-p
 ara-se-re-pensar-a-escola-e-a-politica
END:VEVENT
END:VCALENDAR
