BEGIN:VCALENDAR
VERSION:2.0
PRODID:-//192.99.84.55//NONSGML kigkonsult.se iCalcreator 2.20//
CALSCALE:GREGORIAN
METHOD:PUBLISH
X-WR-TIMEZONE:UTC
BEGIN:VEVENT
UID:event1549@Congreso 2017
DTSTAMP:20260421T071519Z
CATEGORIES:17. Etnoeducación e Interculturalidad\, Simposio: Acción afirmat
 iva y luchas étnicas en la educación\, en América Latina. 
DESCRIPTION:La educación comunitaria oaxaqueña. Entre lo comunitario y la n
 ormatividad: el caso de la UESA-LEMSC \nCategoría: 17. Etnoeducación e Int
 erculturalidad\, Simposio: Acción afirmativa y luchas étnicas en la educac
 ión\, en América Latina. \nEnlace: https://www.asociacionlatinoamericanade
 antropologia.net/congreso2017/index.php?option=com_jem&view=event&id=1549:
 la-educacion-comunitaria-oaxaquena-entre-lo-comunitario-y-la-normatividad-
 el-caso-de-la-uesa-lemsc\n
DTSTART:20170607T140000Z
DTEND:20170607T160000Z
LOCATION:Edificio: 02 Salón: 206\,Universidad Javeriana\,Bogotá
SUMMARY:La educación comunitaria oaxaqueña. Entre lo comunitario y la norma
 tividad: el caso de la UESA-LEMSC 
URL:https://www.asociacionlatinoamericanadeantropologia.net/congreso2017/in
 dex.php?option=com_jem&view=event&id=1549:la-educacion-comunitaria-oaxaque
 na-entre-lo-comunitario-y-la-normatividad-el-caso-de-la-uesa-lemsc
END:VEVENT
END:VCALENDAR
