BEGIN:VCALENDAR
VERSION:2.0
PRODID:-//192.99.84.55//NONSGML kigkonsult.se iCalcreator 2.20//
CALSCALE:GREGORIAN
METHOD:PUBLISH
X-WR-TIMEZONE:UTC
BEGIN:VEVENT
UID:event1531@Congreso 2017
DTSTAMP:20260421T071543Z
CATEGORIES:16. Políticas culturales\, patrimonio y turismo\, Simposio: Proc
 essos de patrimonialização: pós-colonialidade e des-colonialidade no conte
 xto da améri
DESCRIPTION:La irreverencia del cuerpo: conmemoración y monumentos históric
 os nacionales\nCategoría: 16. Políticas culturales\, patrimonio y turismo\
 , Simposio: Processos de patrimonialização: pós-colonialidade e des-coloni
 alidade no contexto da améri\nEnlace: https://www.asociacionlatinoamerican
 adeantropologia.net/congreso2017/index.php?option=com_jem&view=event&id=15
 31:la-irreverencia-del-cuerpo-conmemoracion-y-monumentos-historicos-nacion
 ales\n
DTSTART:20170607T110000Z
DTEND:20170607T130000Z
LOCATION:Edificio: 67 Salón: 503\,Universidad Javeriana\,Bogotá
SUMMARY:La irreverencia del cuerpo: conmemoración y monumentos históricos n
 acionales
URL:https://www.asociacionlatinoamericanadeantropologia.net/congreso2017/in
 dex.php?option=com_jem&view=event&id=1531:la-irreverencia-del-cuerpo-conme
 moracion-y-monumentos-historicos-nacionales
END:VEVENT
END:VCALENDAR
