BEGIN:VCALENDAR
VERSION:2.0
PRODID:-//192.99.84.55//NONSGML kigkonsult.se iCalcreator 2.20//
CALSCALE:GREGORIAN
METHOD:PUBLISH
X-WR-TIMEZONE:UTC
BEGIN:VEVENT
UID:event15@Congreso 2017
DTSTAMP:20260421T014112Z
CATEGORIES:1. Geopolíticas del conocimiento y antropologías del sur\, Simpo
 sio: Miradas a las prácticas antropológicas desde el SurOccidente colombia
 no
DESCRIPTION:Simposio: Miradas a las prácticas antropológicas desde el suroc
 cidente colombiano \nCategoría: 1. Geopolíticas del conocimiento y antropo
 logías del sur\, Simposio: Miradas a las prácticas antropológicas desde el
  SurOccidente colombiano\nEnlace: https://www.asociacionlatinoamericanadea
 ntropologia.net/congreso2017/index.php?option=com_jem&view=event&id=15:sim
 posio-miradas-a-las-practicas-antropologicas-desde-el-suroccidente-colombi
 ano\n
DTSTART:20170609T090000Z
DTEND:20170609T130000Z
LOCATION:Edificio: 67 Salón: 411\,Universidad Javeriana\,Salón: 411 Bogotá
SUMMARY:Simposio: Miradas a las prácticas antropológicas desde el suroccide
 nte colombiano 
URL:https://www.asociacionlatinoamericanadeantropologia.net/congreso2017/in
 dex.php?option=com_jem&view=event&id=15:simposio-miradas-a-las-practicas-a
 ntropologicas-desde-el-suroccidente-colombiano
END:VEVENT
END:VCALENDAR
