BEGIN:VCALENDAR
VERSION:2.0
PRODID:-//192.99.84.55//NONSGML kigkonsult.se iCalcreator 2.20//
CALSCALE:GREGORIAN
METHOD:PUBLISH
X-WR-TIMEZONE:UTC
BEGIN:VEVENT
UID:event1481@Congreso 2017
DTSTAMP:20260421T014400Z
CATEGORIES:16. Políticas culturales\, patrimonio y turismo\, Simposio: Patr
 imonio cultural\, hegemonía y mediaciones sociales en América Latina: agen
 das de invest
DESCRIPTION:Itinerarios\, temas y tramas del coleccionismo arqueologico en 
 Mexico\nCategoría: 16. Políticas culturales\, patrimonio y turismo\, Simpo
 sio: Patrimonio cultural\, hegemonía y mediaciones sociales en América Lat
 ina: agendas de invest\nEnlace: https://www.asociacionlatinoamericanadeant
 ropologia.net/congreso2017/index.php?option=com_jem&view=event&id=1481:iti
 nerarios-temas-y-tramas-del-coleccionismo-arqueologico-en-mexico\n
DTSTART:20170607T140000Z
DTEND:20170607T160000Z
LOCATION:Edificio: 67 Salón: 411\,Universidad Javeriana\,Salón: 411 Bogotá
SUMMARY:Itinerarios\, temas y tramas del coleccionismo arqueologico en Mexi
 co
URL:https://www.asociacionlatinoamericanadeantropologia.net/congreso2017/in
 dex.php?option=com_jem&view=event&id=1481:itinerarios-temas-y-tramas-del-c
 oleccionismo-arqueologico-en-mexico
END:VEVENT
END:VCALENDAR
