BEGIN:VCALENDAR
VERSION:2.0
PRODID:-//192.99.84.55//NONSGML kigkonsult.se iCalcreator 2.20//
CALSCALE:GREGORIAN
METHOD:PUBLISH
X-WR-TIMEZONE:UTC
BEGIN:VEVENT
UID:event1479@Congreso 2017
DTSTAMP:20260421T014551Z
CATEGORIES:16. Políticas culturales\, patrimonio y turismo\, Simposio: Patr
 imonio cultural\, hegemonía y mediaciones sociales en América Latina: agen
 das de invest
DESCRIPTION:La gestión patrimonial y su rol en la defensa de derechos colec
 tivos de pueblos\, comunas y nacionalidades indígenas. Un análisis del cas
 o ecuatoriano. \nCategoría: 16. Políticas culturales\, patrimonio y turism
 o\, Simposio: Patrimonio cultural\, hegemonía y mediaciones sociales en Am
 érica Latina: agendas de invest\nEnlace: https://www.asociacionlatinoameri
 canadeantropologia.net/congreso2017/index.php?option=com_jem&view=event&id
 =1479:la-gestion-patrimonial-y-su-rol-en-la-defensa-de-derechos-colectivos
 -de-pueblos-comunas-y-nacionalidades-indigenas-un-analisis-del-caso-ecuato
 riano\n
DTSTART:20170607T110000Z
DTEND:20170607T130000Z
LOCATION:Edificio: 67 Salón: 411\,Universidad Javeriana\,Salón: 411 Bogotá
SUMMARY:La gestión patrimonial y su rol en la defensa de derechos colectivo
 s de pueblos\, comunas y nacionalidades indígenas. Un análisis del caso ec
 uatoriano. 
URL:https://www.asociacionlatinoamericanadeantropologia.net/congreso2017/in
 dex.php?option=com_jem&view=event&id=1479:la-gestion-patrimonial-y-su-rol-
 en-la-defensa-de-derechos-colectivos-de-pueblos-comunas-y-nacionalidades-i
 ndigenas-un-analisis-del-caso-ecuatoriano
END:VEVENT
END:VCALENDAR
