BEGIN:VCALENDAR
VERSION:2.0
PRODID:-//192.99.84.55//NONSGML kigkonsult.se iCalcreator 2.20//
CALSCALE:GREGORIAN
METHOD:PUBLISH
X-WR-TIMEZONE:UTC
BEGIN:VEVENT
UID:event1468@Congreso 2017
DTSTAMP:20260421T073621Z
CATEGORIES:16. Políticas culturales\, patrimonio y turismo\, Simposio: Memo
 rias\, ciudades y políticas de patrimonio
DESCRIPTION:Turismo e Patrimônio: Um Olhar sobre o Centro Antigo de Salvado
 r – Bahia\nCategoría: 16. Políticas culturales\, patrimonio y turismo\, Si
 mposio: Memorias\, ciudades y políticas de patrimonio\nEnlace: https://www
 .asociacionlatinoamericanadeantropologia.net/congreso2017/index.php?option
 =com_jem&view=event&id=1468:turismo-e-patrimonio-um-olhar-sobre-o-centro-a
 ntigo-de-salvador-bahia\n
DTSTART:20170608T090000Z
DTEND:20170608T160000Z
LOCATION:Edificio: 02 Salón: 407\,Universidad Javeriana\,Bogotá
SUMMARY:Turismo e Patrimônio: Um Olhar sobre o Centro Antigo de Salvador – 
 Bahia
URL:https://www.asociacionlatinoamericanadeantropologia.net/congreso2017/in
 dex.php?option=com_jem&view=event&id=1468:turismo-e-patrimonio-um-olhar-so
 bre-o-centro-antigo-de-salvador-bahia
END:VEVENT
END:VCALENDAR
