BEGIN:VCALENDAR
VERSION:2.0
PRODID:-//192.99.84.55//NONSGML kigkonsult.se iCalcreator 2.20//
CALSCALE:GREGORIAN
METHOD:PUBLISH
X-WR-TIMEZONE:UTC
BEGIN:VEVENT
UID:event1465@Congreso 2017
DTSTAMP:20260421T073556Z
CATEGORIES:16. Políticas culturales\, patrimonio y turismo\, Simposio: Memo
 rias\, ciudades y políticas de patrimonio
DESCRIPTION:Cancún ¿es “otra historia”? Avatares de identidad de una “comun
 idad imaginada” a partir de cero\nCategoría: 16. Políticas culturales\, pa
 trimonio y turismo\, Simposio: Memorias\, ciudades y políticas de patrimon
 io\nEnlace: https://www.asociacionlatinoamericanadeantropologia.net/congre
 so2017/index.php?option=com_jem&view=event&id=1465:cancun-es-otra-historia
 -avatares-de-identidad-de-una-comunidad-imaginada-a-partir-de-cero\n
DTSTART:20170608T090000Z
DTEND:20170608T160000Z
LOCATION:Edificio: 02 Salón: 407\,Universidad Javeriana\,Bogotá
SUMMARY:Cancún ¿es “otra historia”? Avatares de identidad de una “comunidad
  imaginada” a partir de cero
URL:https://www.asociacionlatinoamericanadeantropologia.net/congreso2017/in
 dex.php?option=com_jem&view=event&id=1465:cancun-es-otra-historia-avatares
 -de-identidad-de-una-comunidad-imaginada-a-partir-de-cero
END:VEVENT
END:VCALENDAR
