BEGIN:VCALENDAR
VERSION:2.0
PRODID:-//192.99.84.55//NONSGML kigkonsult.se iCalcreator 2.20//
CALSCALE:GREGORIAN
METHOD:PUBLISH
X-WR-TIMEZONE:UTC
BEGIN:VEVENT
UID:event1464@Congreso 2017
DTSTAMP:20260421T055427Z
CATEGORIES:16. Políticas culturales\, patrimonio y turismo\, Simposio: Memo
 rias\, ciudades y políticas de patrimonio
DESCRIPTION:Café colonial na Serra Gaúcha e as suas transformações\nCategor
 ía: 16. Políticas culturales\, patrimonio y turismo\, Simposio: Memorias\,
  ciudades y políticas de patrimonio\nEnlace: https://www.asociacionlatinoa
 mericanadeantropologia.net/congreso2017/index.php?option=com_jem&view=even
 t&id=1464:cafe-colonial-na-serra-gaucha-e-as-suas-transformacoes\n
DTSTART:20170608T090000Z
DTEND:20170608T160000Z
LOCATION:Edificio: 02 Salón: 407\,Universidad Javeriana\,Bogotá
SUMMARY:Café colonial na Serra Gaúcha e as suas transformações
URL:https://www.asociacionlatinoamericanadeantropologia.net/congreso2017/in
 dex.php?option=com_jem&view=event&id=1464:cafe-colonial-na-serra-gaucha-e-
 as-suas-transformacoes
END:VEVENT
END:VCALENDAR
