BEGIN:VCALENDAR
VERSION:2.0
PRODID:-//192.99.84.55//NONSGML kigkonsult.se iCalcreator 2.20//
CALSCALE:GREGORIAN
METHOD:PUBLISH
X-WR-TIMEZONE:UTC
BEGIN:VEVENT
UID:event1463@Congreso 2017
DTSTAMP:20260421T055838Z
CATEGORIES:16. Políticas culturales\, patrimonio y turismo\, Simposio: Memo
 rias\, ciudades y políticas de patrimonio
DESCRIPTION:Reconstrucción del tejido social en la delegación Tlalpan-CDMX\
 , a partir de políticas culturales comunitarias\nCategoría: 16. Políticas 
 culturales\, patrimonio y turismo\, Simposio: Memorias\, ciudades y políti
 cas de patrimonio\nEnlace: https://www.asociacionlatinoamericanadeantropol
 ogia.net/congreso2017/index.php?option=com_jem&view=event&id=1463:reconstr
 uccion-del-tejido-social-en-la-delegacion-tlalpan-cdmx-a-partir-de-politic
 as-culturales-comunitarias\n
DTSTART:20170608T090000Z
DTEND:20170608T160000Z
LOCATION:Edificio: 02 Salón: 407\,Universidad Javeriana\,Bogotá
SUMMARY:Reconstrucción del tejido social en la delegación Tlalpan-CDMX\, a 
 partir de políticas culturales comunitarias
URL:https://www.asociacionlatinoamericanadeantropologia.net/congreso2017/in
 dex.php?option=com_jem&view=event&id=1463:reconstruccion-del-tejido-social
 -en-la-delegacion-tlalpan-cdmx-a-partir-de-politicas-culturales-comunitari
 as
END:VEVENT
END:VCALENDAR
