BEGIN:VCALENDAR
VERSION:2.0
PRODID:-//192.99.84.55//NONSGML kigkonsult.se iCalcreator 2.20//
CALSCALE:GREGORIAN
METHOD:PUBLISH
X-WR-TIMEZONE:UTC
BEGIN:VEVENT
UID:event1461@Congreso 2017
DTSTAMP:20260421T073557Z
CATEGORIES:16. Políticas culturales\, patrimonio y turismo\, Simposio: Memo
 rias\, ciudades y políticas de patrimonio
DESCRIPTION:Memória do trabalho e memória ambiental: a indústria curtidora 
 do Vale do Rio dos Sinos/RS\, Brasil. \nCategoría: 16. Políticas culturale
 s\, patrimonio y turismo\, Simposio: Memorias\, ciudades y políticas de pa
 trimonio\nEnlace: https://www.asociacionlatinoamericanadeantropologia.net/
 congreso2017/index.php?option=com_jem&view=event&id=1461:memoria-do-trabal
 ho-e-memoria-ambiental-a-industria-curtidora-do-vale-do-rio-dos-sinos-rs-b
 rasil\n
DTSTART:20170608T090000Z
DTEND:20170608T160000Z
LOCATION:Edificio: 02 Salón: 407\,Universidad Javeriana\,Bogotá
SUMMARY:Memória do trabalho e memória ambiental: a indústria curtidora do V
 ale do Rio dos Sinos/RS\, Brasil. 
URL:https://www.asociacionlatinoamericanadeantropologia.net/congreso2017/in
 dex.php?option=com_jem&view=event&id=1461:memoria-do-trabalho-e-memoria-am
 biental-a-industria-curtidora-do-vale-do-rio-dos-sinos-rs-brasil
END:VEVENT
END:VCALENDAR
