BEGIN:VCALENDAR
VERSION:2.0
PRODID:-//192.99.84.55//NONSGML kigkonsult.se iCalcreator 2.20//
CALSCALE:GREGORIAN
METHOD:PUBLISH
X-WR-TIMEZONE:UTC
BEGIN:VEVENT
UID:event1460@Congreso 2017
DTSTAMP:20260421T054534Z
CATEGORIES:16. Políticas culturales\, patrimonio y turismo\, Simposio: Memo
 rias\, ciudades y políticas de patrimonio
DESCRIPTION:Paisagem cultural e as florestas do Brasil meridional: a paisag
 em dos imigrantes \nCategoría: 16. Políticas culturales\, patrimonio y tur
 ismo\, Simposio: Memorias\, ciudades y políticas de patrimonio\nEnlace: ht
 tps://www.asociacionlatinoamericanadeantropologia.net/congreso2017/index.p
 hp?option=com_jem&view=event&id=1460:paisagem-cultural-e-as-florestas-do-b
 rasil-meridional-a-paisagem-dos-imigrantes\n
DTSTART:20170608T090000Z
DTEND:20170608T160000Z
LOCATION:Edificio: 02 Salón: 407\,Universidad Javeriana\,Bogotá
SUMMARY:Paisagem cultural e as florestas do Brasil meridional: a paisagem d
 os imigrantes 
URL:https://www.asociacionlatinoamericanadeantropologia.net/congreso2017/in
 dex.php?option=com_jem&view=event&id=1460:paisagem-cultural-e-as-florestas
 -do-brasil-meridional-a-paisagem-dos-imigrantes
END:VEVENT
END:VCALENDAR
