BEGIN:VCALENDAR
VERSION:2.0
PRODID:-//192.99.84.55//NONSGML kigkonsult.se iCalcreator 2.20//
CALSCALE:GREGORIAN
METHOD:PUBLISH
X-WR-TIMEZONE:UTC
BEGIN:VEVENT
UID:event1347@Congreso 2017
DTSTAMP:20260421T071542Z
CATEGORIES:14. Políticas de la salud\, el bienestar y la enfermedad \, Simp
 osio: Usos sociales y economía política del ayahuasca: perspectivas desde 
 América Latina
DESCRIPTION:El yajé en el chamanismo kamëntsá y los nuevos chamanismos urba
 nos. Mitopoiesis y decolonización.\nCategoría: 14. Políticas de la salud\,
  el bienestar y la enfermedad \, Simposio: Usos sociales y economía políti
 ca del ayahuasca: perspectivas desde América Latina\nEnlace: https://www.a
 sociacionlatinoamericanadeantropologia.net/congreso2017/index.php?option=c
 om_jem&view=event&id=1347:el-yaje-en-el-chamanismo-kamentsa-y-los-nuevos-c
 hamanismos-urbanos-mitopoiesis-y-decolonizacion\n
DTSTART:20170607T160000Z
DTEND:20170607T180000Z
LOCATION:Edificio: 67 Salón: 410\,Universidad Javeriana\,Bogotá
SUMMARY:El yajé en el chamanismo kamëntsá y los nuevos chamanismos urbanos.
  Mitopoiesis y decolonización.
URL:https://www.asociacionlatinoamericanadeantropologia.net/congreso2017/in
 dex.php?option=com_jem&view=event&id=1347:el-yaje-en-el-chamanismo-kaments
 a-y-los-nuevos-chamanismos-urbanos-mitopoiesis-y-decolonizacion
END:VEVENT
END:VCALENDAR
