BEGIN:VCALENDAR
VERSION:2.0
PRODID:-//192.99.84.55//NONSGML kigkonsult.se iCalcreator 2.20//
CALSCALE:GREGORIAN
METHOD:PUBLISH
X-WR-TIMEZONE:UTC
BEGIN:VEVENT
UID:event1346@Congreso 2017
DTSTAMP:20260421T071540Z
CATEGORIES:14. Políticas de la salud\, el bienestar y la enfermedad \, Simp
 osio: Usos sociales y economía política del ayahuasca: perspectivas desde 
 América Latina
DESCRIPTION:La Palomera-Manizales una experiencia colectiva de jóvenes en e
 l  despertar de consciencia y aprendizajes en  conocimiento \nCategoría: 1
 4. Políticas de la salud\, el bienestar y la enfermedad \, Simposio: Usos 
 sociales y economía política del ayahuasca: perspectivas desde América Lat
 ina\nEnlace: https://www.asociacionlatinoamericanadeantropologia.net/congr
 eso2017/index.php?option=com_jem&view=event&id=1346:la-palomera-manizales-
 una-experiencia-colectiva-de-jovenes-en-el-despertar-de-consciencia-y-apre
 ndizajes-en-conocimiento\n
DTSTART:20170607T160000Z
DTEND:20170607T180000Z
LOCATION:Edificio: 67 Salón: 410\,Universidad Javeriana\,Bogotá
SUMMARY:La Palomera-Manizales una experiencia colectiva de jóvenes en el  d
 espertar de consciencia y aprendizajes en  conocimiento 
URL:https://www.asociacionlatinoamericanadeantropologia.net/congreso2017/in
 dex.php?option=com_jem&view=event&id=1346:la-palomera-manizales-una-experi
 encia-colectiva-de-jovenes-en-el-despertar-de-consciencia-y-aprendizajes-e
 n-conocimiento
END:VEVENT
END:VCALENDAR
