BEGIN:VCALENDAR
VERSION:2.0
PRODID:-//192.99.84.55//NONSGML kigkonsult.se iCalcreator 2.20//
CALSCALE:GREGORIAN
METHOD:PUBLISH
X-WR-TIMEZONE:UTC
BEGIN:VEVENT
UID:event1340@Congreso 2017
DTSTAMP:20260421T071514Z
CATEGORIES:14. Políticas de la salud\, el bienestar y la enfermedad \, Simp
 osio: Usos sociales y economía política del ayahuasca: perspectivas desde 
 América Latina
DESCRIPTION:Y si el kambó no cantar? El valor del conocimiento y la economí
 a política de la ayahuasca\nCategoría: 14. Políticas de la salud\, el bien
 estar y la enfermedad \, Simposio: Usos sociales y economía política del a
 yahuasca: perspectivas desde América Latina\nEnlace: https://www.asociacio
 nlatinoamericanadeantropologia.net/congreso2017/index.php?option=com_jem&v
 iew=event&id=1340:y-si-el-kambo-no-cantar-el-valor-del-conocimiento-y-la-e
 conomia-politica-de-la-ayahuasca\n
DTSTART:20170607T140000Z
DTEND:20170607T160000Z
LOCATION:Edificio: 67 Salón: 410\,Universidad Javeriana\,Bogotá
SUMMARY:Y si el kambó no cantar? El valor del conocimiento y la economía po
 lítica de la ayahuasca
URL:https://www.asociacionlatinoamericanadeantropologia.net/congreso2017/in
 dex.php?option=com_jem&view=event&id=1340:y-si-el-kambo-no-cantar-el-valor
 -del-conocimiento-y-la-economia-politica-de-la-ayahuasca
END:VEVENT
END:VCALENDAR
