BEGIN:VCALENDAR
VERSION:2.0
PRODID:-//192.99.84.55//NONSGML kigkonsult.se iCalcreator 2.20//
CALSCALE:GREGORIAN
METHOD:PUBLISH
X-WR-TIMEZONE:UTC
BEGIN:VEVENT
UID:event1329@Congreso 2017
DTSTAMP:20260421T054255Z
CATEGORIES:14. Políticas de la salud\, el bienestar y la enfermedad \, Simp
 osio: Salud y Sociedad
DESCRIPTION:Memoria y Continuidad de la Salud Comunitaria en Chile \nCatego
 ría: 14. Políticas de la salud\, el bienestar y la enfermedad \, Simposio:
  Salud y Sociedad\nEnlace: https://www.asociacionlatinoamericanadeantropol
 ogia.net/congreso2017/index.php?option=com_jem&view=event&id=1329:memoria-
 y-continuidad-de-la-salud-comunitaria-en-chile\n
DTSTART:20170606T160000Z
DTEND:20170606T180000Z
LOCATION:Edificio: 02 Salón: 407\,Universidad Javeriana\,Bogotá
SUMMARY:Memoria y Continuidad de la Salud Comunitaria en Chile 
URL:https://www.asociacionlatinoamericanadeantropologia.net/congreso2017/in
 dex.php?option=com_jem&view=event&id=1329:memoria-y-continuidad-de-la-salu
 d-comunitaria-en-chile
END:VEVENT
END:VCALENDAR
