BEGIN:VCALENDAR
VERSION:2.0
PRODID:-//192.99.84.55//NONSGML kigkonsult.se iCalcreator 2.20//
CALSCALE:GREGORIAN
METHOD:PUBLISH
X-WR-TIMEZONE:UTC
BEGIN:VEVENT
UID:event1328@Congreso 2017
DTSTAMP:20260421T054535Z
CATEGORIES:14. Políticas de la salud\, el bienestar y la enfermedad \, Simp
 osio: Salud y Sociedad
DESCRIPTION:Rezador e Rezadeira: um estudo sobre suas concepções relacionad
 as à enfermidade “Derrame”\nCategoría: 14. Políticas de la salud\, el bien
 estar y la enfermedad \, Simposio: Salud y Sociedad\nEnlace: https://www.a
 sociacionlatinoamericanadeantropologia.net/congreso2017/index.php?option=c
 om_jem&view=event&id=1328:rezador-e-rezadeira-um-estudo-sobre-suas-concepc
 oes-relacionadas-a-enfermidade-derrame\n
DTSTART:20170606T160000Z
DTEND:20170606T180000Z
LOCATION:Edificio: 02 Salón: 407\,Universidad Javeriana\,Bogotá
SUMMARY:Rezador e Rezadeira: um estudo sobre suas concepções relacionadas à
  enfermidade “Derrame”
URL:https://www.asociacionlatinoamericanadeantropologia.net/congreso2017/in
 dex.php?option=com_jem&view=event&id=1328:rezador-e-rezadeira-um-estudo-so
 bre-suas-concepcoes-relacionadas-a-enfermidade-derrame
END:VEVENT
END:VCALENDAR
