BEGIN:VCALENDAR
VERSION:2.0
PRODID:-//192.99.84.55//NONSGML kigkonsult.se iCalcreator 2.20//
CALSCALE:GREGORIAN
METHOD:PUBLISH
X-WR-TIMEZONE:UTC
BEGIN:VEVENT
UID:event1294@Congreso 2017
DTSTAMP:20260421T014626Z
CATEGORIES:14. Políticas de la salud\, el bienestar y la enfermedad \, Simp
 osio: Estudios antropológicos de la medicalización
DESCRIPTION:Poder y medicina hoy: de la desmedicalización de la sociedad a 
 la desjuridificación y desmedicalización de la medicina\nCategoría: 14. Po
 líticas de la salud\, el bienestar y la enfermedad \, Simposio: Estudios a
 ntropológicos de la medicalización\nEnlace: https://www.asociacionlatinoam
 ericanadeantropologia.net/congreso2017/index.php?option=com_jem&view=event
 &id=1294:poder-y-medicina-hoy-de-la-desmedicalizacion-de-la-sociedad-a-la-
 desjuridificacion-y-desmedicalizacion-de-la-medicina\n
DTSTART:20170608T090000Z
DTEND:20170608T110000Z
LOCATION:Edificio: 67 Salón: 411\,Universidad Javeriana\,Salón: 411 Bogotá
SUMMARY:Poder y medicina hoy: de la desmedicalización de la sociedad a la d
 esjuridificación y desmedicalización de la medicina
URL:https://www.asociacionlatinoamericanadeantropologia.net/congreso2017/in
 dex.php?option=com_jem&view=event&id=1294:poder-y-medicina-hoy-de-la-desme
 dicalizacion-de-la-sociedad-a-la-desjuridificacion-y-desmedicalizacion-de-
 la-medicina
END:VEVENT
END:VCALENDAR
