BEGIN:VCALENDAR
VERSION:2.0
PRODID:-//192.99.84.55//NONSGML kigkonsult.se iCalcreator 2.20//
CALSCALE:GREGORIAN
METHOD:PUBLISH
X-WR-TIMEZONE:UTC
BEGIN:VEVENT
UID:event1280@Congreso 2017
DTSTAMP:20260421T123627Z
CATEGORIES:14. Políticas de la salud\, el bienestar y la enfermedad \, Simp
 osio: Antropología médica y salud pública. La mirada cualitativa a la polí
 tica pública en salud.
DESCRIPTION:Los sistemas de clasificación de información sobre salud en con
 textos interculturales.\nCategoría: 14. Políticas de la salud\, el bienest
 ar y la enfermedad \, Simposio: Antropología médica y salud pública. La mi
 rada cualitativa a la política pública en salud.\nEnlace: https://www.asoc
 iacionlatinoamericanadeantropologia.net/congreso2017/index.php?option=com_
 jem&view=event&id=1280:los-sistemas-de-clasificacion-de-informacion-sobre-
 salud-en-contextos-interculturales\n
DTSTART:20170607T160000Z
DTEND:20170607T180000Z
LOCATION:Edificio: 02 Salón: 306\,Universidad Javeriana\,Bogotá
SUMMARY:Los sistemas de clasificación de información sobre salud en context
 os interculturales.
URL:https://www.asociacionlatinoamericanadeantropologia.net/congreso2017/in
 dex.php?option=com_jem&view=event&id=1280:los-sistemas-de-clasificacion-de
 -informacion-sobre-salud-en-contextos-interculturales
END:VEVENT
END:VCALENDAR
