BEGIN:VCALENDAR
VERSION:2.0
PRODID:-//192.99.84.55//NONSGML kigkonsult.se iCalcreator 2.20//
CALSCALE:GREGORIAN
METHOD:PUBLISH
X-WR-TIMEZONE:UTC
BEGIN:VEVENT
UID:event1277@Congreso 2017
DTSTAMP:20260421T130133Z
CATEGORIES:14. Políticas de la salud\, el bienestar y la enfermedad \, Simp
 osio: Antropología médica y salud pública. La mirada cualitativa a la polí
 tica pública en salud.
DESCRIPTION:Representaciones sociales del cáncer: una comprensión de la exp
 eriencia del enfermo oncológico asistido en dos entidades de salud del D.T
 .C.H de Santa Marta (2013-2016) \nCategoría: 14. Políticas de la salud\, e
 l bienestar y la enfermedad \, Simposio: Antropología médica y salud públi
 ca. La mirada cualitativa a la política pública en salud.\nEnlace: https:/
 /www.asociacionlatinoamericanadeantropologia.net/congreso2017/index.php?op
 tion=com_jem&view=event&id=1277:representaciones-sociales-del-cancer-una-c
 omprension-de-la-experiencia-del-enfermo-oncologico-asistido-en-dos-entida
 des-de-salud-del-d-t-c-h-de-santa-marta-2013-2016\n
DTSTART:20170607T140000Z
DTEND:20170607T160000Z
LOCATION:Edificio: 02 Salón: 306\,Universidad Javeriana\,Bogotá
SUMMARY:Representaciones sociales del cáncer: una comprensión de la experie
 ncia del enfermo oncológico asistido en dos entidades de salud del D.T.C.H
  de Santa Marta (2013-2016) 
URL:https://www.asociacionlatinoamericanadeantropologia.net/congreso2017/in
 dex.php?option=com_jem&view=event&id=1277:representaciones-sociales-del-ca
 ncer-una-comprension-de-la-experiencia-del-enfermo-oncologico-asistido-en-
 dos-entidades-de-salud-del-d-t-c-h-de-santa-marta-2013-2016
END:VEVENT
END:VCALENDAR
