BEGIN:VCALENDAR
VERSION:2.0
PRODID:-//192.99.84.55//NONSGML kigkonsult.se iCalcreator 2.20//
CALSCALE:GREGORIAN
METHOD:PUBLISH
X-WR-TIMEZONE:UTC
BEGIN:VEVENT
UID:event1275@Congreso 2017
DTSTAMP:20260421T125227Z
CATEGORIES:14. Políticas de la salud\, el bienestar y la enfermedad \, Simp
 osio: Antropología médica y salud pública. La mirada cualitativa a la polí
 tica pública en salud.
DESCRIPTION:La tuberculosis desde la mirada Ashaninka y la respuesta del es
 tado \nCategoría: 14. Políticas de la salud\, el bienestar y la enfermedad
  \, Simposio: Antropología médica y salud pública. La mirada cualitativa a
  la política pública en salud.\nEnlace: https://www.asociacionlatinoameric
 anadeantropologia.net/congreso2017/index.php?option=com_jem&view=event&id=
 1275:la-tuberculosis-desde-la-mirada-ashaninka-y-la-respuesta-del-estado\n
DTSTART:20170607T110000Z
DTEND:20170607T130000Z
LOCATION:Edificio: 02 Salón: 306\,Universidad Javeriana\,Bogotá
SUMMARY:La tuberculosis desde la mirada Ashaninka y la respuesta del estado
  
URL:https://www.asociacionlatinoamericanadeantropologia.net/congreso2017/in
 dex.php?option=com_jem&view=event&id=1275:la-tuberculosis-desde-la-mirada-
 ashaninka-y-la-respuesta-del-estado
END:VEVENT
END:VCALENDAR
