BEGIN:VCALENDAR
VERSION:2.0
PRODID:-//192.99.84.55//NONSGML kigkonsult.se iCalcreator 2.20//
CALSCALE:GREGORIAN
METHOD:PUBLISH
X-WR-TIMEZONE:UTC
BEGIN:VEVENT
UID:event1274@Congreso 2017
DTSTAMP:20260421T123658Z
CATEGORIES:14. Políticas de la salud\, el bienestar y la enfermedad \, Simp
 osio: Antropología médica y salud pública. La mirada cualitativa a la polí
 tica pública en salud.
DESCRIPTION:Módulos de Medicina Tradicional en los Servicios de Salud del E
 stado de Puebla\, México\nCategoría: 14. Políticas de la salud\, el bienes
 tar y la enfermedad \, Simposio: Antropología médica y salud pública. La m
 irada cualitativa a la política pública en salud.\nEnlace: https://www.aso
 ciacionlatinoamericanadeantropologia.net/congreso2017/index.php?option=com
 _jem&view=event&id=1274:modulos-de-medicina-tradicional-en-los-servicios-d
 e-salud-del-estado-de-puebla-mexico\n
DTSTART:20170607T110000Z
DTEND:20170607T130000Z
LOCATION:Edificio: 02 Salón: 306\,Universidad Javeriana\,Bogotá
SUMMARY:Módulos de Medicina Tradicional en los Servicios de Salud del Estad
 o de Puebla\, México
URL:https://www.asociacionlatinoamericanadeantropologia.net/congreso2017/in
 dex.php?option=com_jem&view=event&id=1274:modulos-de-medicina-tradicional-
 en-los-servicios-de-salud-del-estado-de-puebla-mexico
END:VEVENT
END:VCALENDAR
