BEGIN:VCALENDAR
VERSION:2.0
PRODID:-//192.99.84.55//NONSGML kigkonsult.se iCalcreator 2.20//
CALSCALE:GREGORIAN
METHOD:PUBLISH
X-WR-TIMEZONE:UTC
BEGIN:VEVENT
UID:event1272@Congreso 2017
DTSTAMP:20260421T125245Z
CATEGORIES:14. Políticas de la salud\, el bienestar y la enfermedad \, Simp
 osio: Antropología médica y salud pública. La mirada cualitativa a la polí
 tica pública en salud.
DESCRIPTION:(Des)Proteção Social para Pacientes com Tuberculose Previstos n
 a Legislação Brasileira no Âmbito da Atenção Básica\nCategoría: 14. Políti
 cas de la salud\, el bienestar y la enfermedad \, Simposio: Antropología m
 édica y salud pública. La mirada cualitativa a la política pública en salu
 d.\nEnlace: https://www.asociacionlatinoamericanadeantropologia.net/congre
 so2017/index.php?option=com_jem&view=event&id=1272:des-protecao-social-par
 a-pacientes-com-tuberculose-previstos-na-legislacao-brasileira-no-ambito-d
 a-atencao-basica\n
DTSTART:20170607T110000Z
DTEND:20170607T130000Z
LOCATION:Edificio: 02 Salón: 306\,Universidad Javeriana\,Bogotá
SUMMARY:(Des)Proteção Social para Pacientes com Tuberculose Previstos na Le
 gislação Brasileira no Âmbito da Atenção Básica
URL:https://www.asociacionlatinoamericanadeantropologia.net/congreso2017/in
 dex.php?option=com_jem&view=event&id=1272:des-protecao-social-para-pacient
 es-com-tuberculose-previstos-na-legislacao-brasileira-no-ambito-da-atencao
 -basica
END:VEVENT
END:VCALENDAR
