BEGIN:VCALENDAR
VERSION:2.0
PRODID:-//192.99.84.55//NONSGML kigkonsult.se iCalcreator 2.20//
CALSCALE:GREGORIAN
METHOD:PUBLISH
X-WR-TIMEZONE:UTC
BEGIN:VEVENT
UID:event1256@Congreso 2017
DTSTAMP:20260421T125535Z
CATEGORIES:14. Políticas de la salud\, el bienestar y la enfermedad \, Simp
 osio: Agenciamentos sociais e políticas públicas de saúde na América Latin
 a: cruzando e confront
DESCRIPTION:Gênero\, crime e loucura: o perfil das mulheres que cumprem med
 ida de segurança no Distrito Federal \nCategoría: 14. Políticas de la salu
 d\, el bienestar y la enfermedad \, Simposio: Agenciamentos sociais e polí
 ticas públicas de saúde na América Latina: cruzando e confront\nEnlace: ht
 tps://www.asociacionlatinoamericanadeantropologia.net/congreso2017/index.p
 hp?option=com_jem&view=event&id=1256:genero-crime-e-loucura-o-perfil-das-m
 ulheres-que-cumprem-medida-de-seguranca-no-distrito-federal\n
DTSTART:20170609T110000Z
DTEND:20170609T130000Z
LOCATION:Edificio: 02 Salón: 306\,Universidad Javeriana\,Bogotá
SUMMARY:Gênero\, crime e loucura: o perfil das mulheres que cumprem medida 
 de segurança no Distrito Federal 
URL:https://www.asociacionlatinoamericanadeantropologia.net/congreso2017/in
 dex.php?option=com_jem&view=event&id=1256:genero-crime-e-loucura-o-perfil-
 das-mulheres-que-cumprem-medida-de-seguranca-no-distrito-federal
END:VEVENT
END:VCALENDAR
