BEGIN:VCALENDAR
VERSION:2.0
PRODID:-//192.99.84.55//NONSGML kigkonsult.se iCalcreator 2.20//
CALSCALE:GREGORIAN
METHOD:PUBLISH
X-WR-TIMEZONE:UTC
BEGIN:VEVENT
UID:event1255@Congreso 2017
DTSTAMP:20260421T125245Z
CATEGORIES:14. Políticas de la salud\, el bienestar y la enfermedad \, Simp
 osio: Agenciamentos sociais e políticas públicas de saúde na América Latin
 a: cruzando e confront
DESCRIPTION:Saúde mental e feitiçaria entre os Mbyá: agenciamentos indígena
 s e articulação de sistemas médicos\nCategoría: 14. Políticas de la salud\
 , el bienestar y la enfermedad \, Simposio: Agenciamentos sociais e políti
 cas públicas de saúde na América Latina: cruzando e confront\nEnlace: http
 s://www.asociacionlatinoamericanadeantropologia.net/congreso2017/index.php
 ?option=com_jem&view=event&id=1255:saude-mental-e-feiticaria-entre-os-mbya
 -agenciamentos-indigenas-e-articulacao-de-sistemas-medicos\n
DTSTART:20170609T090000Z
DTEND:20170609T110000Z
LOCATION:Edificio: 02 Salón: 306\,Universidad Javeriana\,Bogotá
SUMMARY:Saúde mental e feitiçaria entre os Mbyá: agenciamentos indígenas e 
 articulação de sistemas médicos
URL:https://www.asociacionlatinoamericanadeantropologia.net/congreso2017/in
 dex.php?option=com_jem&view=event&id=1255:saude-mental-e-feiticaria-entre-
 os-mbya-agenciamentos-indigenas-e-articulacao-de-sistemas-medicos
END:VEVENT
END:VCALENDAR
