BEGIN:VCALENDAR
VERSION:2.0
PRODID:-//192.99.84.55//NONSGML kigkonsult.se iCalcreator 2.20//
CALSCALE:GREGORIAN
METHOD:PUBLISH
X-WR-TIMEZONE:UTC
BEGIN:VEVENT
UID:event1254@Congreso 2017
DTSTAMP:20260421T125226Z
CATEGORIES:14. Políticas de la salud\, el bienestar y la enfermedad \, Simp
 osio: Agenciamentos sociais e políticas públicas de saúde na América Latin
 a: cruzando e confront
DESCRIPTION:Suicidio en población campesina: estudio de caso en Uruguay\nCa
 tegoría: 14. Políticas de la salud\, el bienestar y la enfermedad \, Simpo
 sio: Agenciamentos sociais e políticas públicas de saúde na América Latina
 : cruzando e confront\nEnlace: https://www.asociacionlatinoamericanadeantr
 opologia.net/congreso2017/index.php?option=com_jem&view=event&id=1254:suic
 idio-en-poblacion-campesina-estudio-de-caso-en-uruguay\n
DTSTART:20170609T090000Z
DTEND:20170609T110000Z
LOCATION:Edificio: 02 Salón: 306\,Universidad Javeriana\,Bogotá
SUMMARY:Suicidio en población campesina: estudio de caso en Uruguay
URL:https://www.asociacionlatinoamericanadeantropologia.net/congreso2017/in
 dex.php?option=com_jem&view=event&id=1254:suicidio-en-poblacion-campesina-
 estudio-de-caso-en-uruguay
END:VEVENT
END:VCALENDAR
