BEGIN:VCALENDAR
VERSION:2.0
PRODID:-//192.99.84.55//NONSGML kigkonsult.se iCalcreator 2.20//
CALSCALE:GREGORIAN
METHOD:PUBLISH
X-WR-TIMEZONE:UTC
BEGIN:VEVENT
UID:event1253@Congreso 2017
DTSTAMP:20260421T125228Z
CATEGORIES:14. Políticas de la salud\, el bienestar y la enfermedad \, Simp
 osio: Agenciamentos sociais e políticas públicas de saúde na América Latin
 a: cruzando e confront
DESCRIPTION:Saúde e alimentação Xerente: as políticas de Segurança Alimenta
 r e Nutricional\nCategoría: 14. Políticas de la salud\, el bienestar y la 
 enfermedad \, Simposio: Agenciamentos sociais e políticas públicas de saúd
 e na América Latina: cruzando e confront\nEnlace: https://www.asociacionla
 tinoamericanadeantropologia.net/congreso2017/index.php?option=com_jem&view
 =event&id=1253:saude-e-alimentacao-xerente-as-politicas-de-seguranca-alime
 ntar-e-nutricional\n
DTSTART:20170609T090000Z
DTEND:20170609T110000Z
LOCATION:Edificio: 02 Salón: 306\,Universidad Javeriana\,Bogotá
SUMMARY:Saúde e alimentação Xerente: as políticas de Segurança Alimentar e 
 Nutricional
URL:https://www.asociacionlatinoamericanadeantropologia.net/congreso2017/in
 dex.php?option=com_jem&view=event&id=1253:saude-e-alimentacao-xerente-as-p
 oliticas-de-seguranca-alimentar-e-nutricional
END:VEVENT
END:VCALENDAR
