BEGIN:VCALENDAR
VERSION:2.0
PRODID:-//192.99.84.55//NONSGML kigkonsult.se iCalcreator 2.20//
CALSCALE:GREGORIAN
METHOD:PUBLISH
X-WR-TIMEZONE:UTC
BEGIN:VEVENT
UID:event1251@Congreso 2017
DTSTAMP:20260421T125227Z
CATEGORIES:14. Políticas de la salud\, el bienestar y la enfermedad \, Simp
 osio: Agenciamentos sociais e políticas públicas de saúde na América Latin
 a: cruzando e confront
DESCRIPTION:Política e clínica: psicanálise\, tecnologia de cuidado e subje
 tivação. \nCategoría: 14. Políticas de la salud\, el bienestar y la enferm
 edad \, Simposio: Agenciamentos sociais e políticas públicas de saúde na A
 mérica Latina: cruzando e confront\nEnlace: https://www.asociacionlatinoam
 ericanadeantropologia.net/congreso2017/index.php?option=com_jem&view=event
 &id=1251:politica-e-clinica-psicanalise-tecnologia-de-cuidado-e-subjetivac
 ao\n
DTSTART:20170608T160000Z
DTEND:20170608T180000Z
LOCATION:Edificio: 02 Salón: 306\,Universidad Javeriana\,Bogotá
SUMMARY:Política e clínica: psicanálise\, tecnologia de cuidado e subjetiva
 ção. 
URL:https://www.asociacionlatinoamericanadeantropologia.net/congreso2017/in
 dex.php?option=com_jem&view=event&id=1251:politica-e-clinica-psicanalise-t
 ecnologia-de-cuidado-e-subjetivacao
END:VEVENT
END:VCALENDAR
