BEGIN:VCALENDAR
VERSION:2.0
PRODID:-//192.99.84.55//NONSGML kigkonsult.se iCalcreator 2.20//
CALSCALE:GREGORIAN
METHOD:PUBLISH
X-WR-TIMEZONE:UTC
BEGIN:VEVENT
UID:event1241@Congreso 2017
DTSTAMP:20260421T071445Z
CATEGORIES:13. Emociones\, subjetividades e identidades\, Simposio: Sentido
 s y subjetividades en el trópico contemporáneo: revisitando sujetos etnogr
 áficos.
DESCRIPTION:Escuchando el pasado\, mapeando el presente: archivos sonoros y
  nuevos repertorios etnográficos sobre la Feria de Cali. \nCategoría: 13. 
 Emociones\, subjetividades e identidades\, Simposio: Sentidos y subjetivid
 ades en el trópico contemporáneo: revisitando sujetos etnográficos.\nEnlac
 e: https://www.asociacionlatinoamericanadeantropologia.net/congreso2017/in
 dex.php?option=com_jem&view=event&id=1241:escuchando-el-pasado-mapeando-el
 -presente-archivos-sonoros-y-nuevos-repertorios-etnograficos-sobre-la-feri
 a-de-cali\n
DTSTART:20170607T160000Z
DTEND:20170607T180000Z
LOCATION:Edificio: 67 Salón: 405\,Universidad Javeriana\,Bogotá
SUMMARY:Escuchando el pasado\, mapeando el presente: archivos sonoros y nue
 vos repertorios etnográficos sobre la Feria de Cali. 
URL:https://www.asociacionlatinoamericanadeantropologia.net/congreso2017/in
 dex.php?option=com_jem&view=event&id=1241:escuchando-el-pasado-mapeando-el
 -presente-archivos-sonoros-y-nuevos-repertorios-etnograficos-sobre-la-feri
 a-de-cali
END:VEVENT
END:VCALENDAR
