BEGIN:VCALENDAR
VERSION:2.0
PRODID:-//192.99.84.55//NONSGML kigkonsult.se iCalcreator 2.20//
CALSCALE:GREGORIAN
METHOD:PUBLISH
X-WR-TIMEZONE:UTC
BEGIN:VEVENT
UID:event1226@Congreso 2017
DTSTAMP:20260421T071219Z
CATEGORIES:13. Emociones\, subjetividades e identidades\, Simposio: La infa
 ncia en la construcción social y cultural: el cuidado institucional del ni
 ño y la n
DESCRIPTION:La agencia infantil en cuatro pueblos indígenas de la Amazonía 
 peruana \nCategoría: 13. Emociones\, subjetividades e identidades\, Simpos
 io: La infancia en la construcción social y cultural: el cuidado instituci
 onal del niño y la n\nEnlace: https://www.asociacionlatinoamericanadeantro
 pologia.net/congreso2017/index.php?option=com_jem&view=event&id=1226:la-ag
 encia-infantil-en-cuatro-pueblos-indigenas-de-la-amazonia-peruana\n
DTSTART:20170608T090000Z
DTEND:20170608T110000Z
LOCATION:Edificio: 02 Salón: 206\,Universidad Javeriana\,Bogotá
SUMMARY:La agencia infantil en cuatro pueblos indígenas de la Amazonía peru
 ana 
URL:https://www.asociacionlatinoamericanadeantropologia.net/congreso2017/in
 dex.php?option=com_jem&view=event&id=1226:la-agencia-infantil-en-cuatro-pu
 eblos-indigenas-de-la-amazonia-peruana
END:VEVENT
END:VCALENDAR
