BEGIN:VCALENDAR
VERSION:2.0
PRODID:-//192.99.84.55//NONSGML kigkonsult.se iCalcreator 2.20//
CALSCALE:GREGORIAN
METHOD:PUBLISH
X-WR-TIMEZONE:UTC
BEGIN:VEVENT
UID:event1171@Congreso 2017
DTSTAMP:20260421T071632Z
CATEGORIES:13. Emociones\, subjetividades e identidades\, Simposio: Antropo
 logia das Emoções\, da Moralidade e dos Corpos
DESCRIPTION:Ágape versus pasión: dos formas de amor enfrentadas en la antro
 pología porteña \nCategoría: 13. Emociones\, subjetividades e identidades\
 , Simposio: Antropologia das Emoções\, da Moralidade e dos Corpos\nEnlace:
  https://www.asociacionlatinoamericanadeantropologia.net/congreso2017/inde
 x.php?option=com_jem&view=event&id=1171:agape-versus-pasion-dos-formas-de-
 amor-enfrentadas-en-la-antropologia-portena\n
DTSTART:20170608T090000Z
DTEND:20170608T160000Z
LOCATION:Edificio: 02 Salón: 305\,Universidad Javeriana\,Bogotá
SUMMARY:Ágape versus pasión: dos formas de amor enfrentadas en la antropolo
 gía porteña 
URL:https://www.asociacionlatinoamericanadeantropologia.net/congreso2017/in
 dex.php?option=com_jem&view=event&id=1171:agape-versus-pasion-dos-formas-d
 e-amor-enfrentadas-en-la-antropologia-portena
END:VEVENT
END:VCALENDAR
