BEGIN:VCALENDAR
VERSION:2.0
PRODID:-//192.99.84.55//NONSGML kigkonsult.se iCalcreator 2.20//
CALSCALE:GREGORIAN
METHOD:PUBLISH
X-WR-TIMEZONE:UTC
BEGIN:VEVENT
UID:event1152@Congreso 2017
DTSTAMP:20260421T054123Z
CATEGORIES:12. Cuerpo y corporalidades\, Simposio: Los cuerpos para renovar
  las prácticas de investigación antropológica y artística en Boliv
DESCRIPTION:Trasegares (Videoinstalación)\nCategoría: 12. Cuerpo y corporal
 idades\, Simposio: Los cuerpos para renovar las prácticas de investigación
  antropológica y artística en Boliv\nEnlace: https://www.asociacionlatinoa
 mericanadeantropologia.net/congreso2017/index.php?option=com_jem&view=even
 t&id=1152:trasegares\n
DTSTART:20170609T090000Z
DTEND:20170609T130000Z
LOCATION:Edificio: 02 Salón: 407\,Universidad Javeriana\,Bogotá
SUMMARY:Trasegares (Videoinstalación)
URL:https://www.asociacionlatinoamericanadeantropologia.net/congreso2017/in
 dex.php?option=com_jem&view=event&id=1152:trasegares
END:VEVENT
END:VCALENDAR
