BEGIN:VCALENDAR
VERSION:2.0
PRODID:-//192.99.84.55//NONSGML kigkonsult.se iCalcreator 2.20//
CALSCALE:GREGORIAN
METHOD:PUBLISH
X-WR-TIMEZONE:UTC
BEGIN:VEVENT
UID:event1129@Congreso 2017
DTSTAMP:20260421T073557Z
CATEGORIES:12. Cuerpo y corporalidades\, Simposio: Corpo\, ciência e tecnol
 ogias de governo
DESCRIPTION:Acidentes nucleares\, corpos contaminados e seus processos de p
 ublicização: notas sobre um trabalho de campo em Caetité-Bahia \nCategoría
 : 12. Cuerpo y corporalidades\, Simposio: Corpo\, ciência e tecnologias de
  governo\nEnlace: https://www.asociacionlatinoamericanadeantropologia.net/
 congreso2017/index.php?option=com_jem&view=event&id=1129:acidentes-nuclear
 es-corpos-contaminados-e-seus-processos-de-publicizacao-notas-sobre-um-tra
 balho-de-campo-em-caetite-bahia\n
DTSTART:20170606T160000Z
DTEND:20170606T180000Z
LOCATION:Edificio: 02 Salón: 401\,Universidad Javeriana\,Bogotá
SUMMARY:Acidentes nucleares\, corpos contaminados e seus processos de publi
 cização: notas sobre um trabalho de campo em Caetité-Bahia 
URL:https://www.asociacionlatinoamericanadeantropologia.net/congreso2017/in
 dex.php?option=com_jem&view=event&id=1129:acidentes-nucleares-corpos-conta
 minados-e-seus-processos-de-publicizacao-notas-sobre-um-trabalho-de-campo-
 em-caetite-bahia
END:VEVENT
END:VCALENDAR
