BEGIN:VCALENDAR
VERSION:2.0
PRODID:-//192.99.84.55//NONSGML kigkonsult.se iCalcreator 2.20//
CALSCALE:GREGORIAN
METHOD:PUBLISH
X-WR-TIMEZONE:UTC
BEGIN:VEVENT
UID:event1128@Congreso 2017
DTSTAMP:20260421T073554Z
CATEGORIES:12. Cuerpo y corporalidades\, Simposio: Corpo\, ciência e tecnol
 ogias de governo
DESCRIPTION:Cibernética\, biopolítica e a antropologia: o caso dos ciborgue
 s metafóricos \nCategoría: 12. Cuerpo y corporalidades\, Simposio: Corpo\,
  ciência e tecnologias de governo\nEnlace: https://www.asociacionlatinoame
 ricanadeantropologia.net/congreso2017/index.php?option=com_jem&view=event&
 id=1128:cibernetica-biopolitica-e-a-antropologia-o-caso-dos-ciborgues-meta
 foricos\n
DTSTART:20170606T160000Z
DTEND:20170606T180000Z
LOCATION:Edificio: 02 Salón: 401\,Universidad Javeriana\,Bogotá
SUMMARY:Cibernética\, biopolítica e a antropologia: o caso dos ciborgues me
 tafóricos 
URL:https://www.asociacionlatinoamericanadeantropologia.net/congreso2017/in
 dex.php?option=com_jem&view=event&id=1128:cibernetica-biopolitica-e-a-antr
 opologia-o-caso-dos-ciborgues-metaforicos
END:VEVENT
END:VCALENDAR
