BEGIN:VCALENDAR
VERSION:2.0
PRODID:-//192.99.84.55//NONSGML kigkonsult.se iCalcreator 2.20//
CALSCALE:GREGORIAN
METHOD:PUBLISH
X-WR-TIMEZONE:UTC
BEGIN:VEVENT
UID:event1126@Congreso 2017
DTSTAMP:20260421T073629Z
CATEGORIES:12. Cuerpo y corporalidades\, Simposio: Corpo\, ciência e tecnol
 ogias de governo
DESCRIPTION:O atleta monitorado: o passaporte biológico do atleta e os fund
 amentos de uma nova “ciência da detecção”\nCategoría: 12. Cuerpo y corpora
 lidades\, Simposio: Corpo\, ciência e tecnologias de governo\nEnlace: http
 s://www.asociacionlatinoamericanadeantropologia.net/congreso2017/index.php
 ?option=com_jem&view=event&id=1126:o-atleta-monitorado-o-passaporte-biolog
 ico-do-atleta-e-os-fundamentos-de-uma-nova-ciencia-da-deteccao\n
DTSTART:20170606T160000Z
DTEND:20170606T180000Z
LOCATION:Edificio: 02 Salón: 401\,Universidad Javeriana\,Bogotá
SUMMARY:O atleta monitorado: o passaporte biológico do atleta e os fundamen
 tos de uma nova “ciência da detecção”
URL:https://www.asociacionlatinoamericanadeantropologia.net/congreso2017/in
 dex.php?option=com_jem&view=event&id=1126:o-atleta-monitorado-o-passaporte
 -biologico-do-atleta-e-os-fundamentos-de-uma-nova-ciencia-da-deteccao
END:VEVENT
END:VCALENDAR
